BEGIN:VCALENDAR
VERSION:2.0
PRODID:-//Bay Circuit Trail &amp; Greenway - ECPv6.9.0//NONSGML v1.0//EN
CALSCALE:GREGORIAN
METHOD:PUBLISH
X-WR-CALNAME:Bay Circuit Trail &amp; Greenway
X-ORIGINAL-URL:https://www.baycircuit.org
X-WR-CALDESC:Events for Bay Circuit Trail &amp; Greenway
REFRESH-INTERVAL;VALUE=DURATION:PT1H
X-Robots-Tag:noindex
X-PUBLISHED-TTL:PT1H
BEGIN:VTIMEZONE
TZID:America/New_York
BEGIN:DAYLIGHT
TZOFFSETFROM:-0500
TZOFFSETTO:-0400
TZNAME:EDT
DTSTART:20250309T070000
END:DAYLIGHT
BEGIN:STANDARD
TZOFFSETFROM:-0400
TZOFFSETTO:-0500
TZNAME:EST
DTSTART:20251102T060000
END:STANDARD
END:VTIMEZONE
BEGIN:VEVENT
DTSTART;TZID=America/New_York:20250503T093000
DTEND;TZID=America/New_York:20250503T173000
DTSTAMP:20260424T142106
CREATED:20250418T184357Z
LAST-MODIFIED:20250418T184658Z
UID:208349-1746264600-1746293400@www.baycircuit.org
SUMMARY:BCT Northern Terminus Work Party (Day 1) - 20s & 30s Event
DESCRIPTION:BCT Coordinator | Volunteer Event | Newburyport\, MA \n\n\n\nBoardwalk & Bog Bridge work at the Northern Terminus of the BCT. This is event is geared towards volunteers in their 20s & 30s but is still open to anyone.
URL:https://www.baycircuit.org/event/bct-northern-terminus-work-party-day-1-20s-30s-event/
END:VEVENT
END:VCALENDAR