BEGIN:VCALENDAR
VERSION:2.0
PRODID:-//Bay Circuit Trail &amp; Greenway - ECPv6.9.0//NONSGML v1.0//EN
CALSCALE:GREGORIAN
METHOD:PUBLISH
X-WR-CALNAME:Bay Circuit Trail &amp; Greenway
X-ORIGINAL-URL:https://www.baycircuit.org
X-WR-CALDESC:Events for Bay Circuit Trail &amp; Greenway
REFRESH-INTERVAL;VALUE=DURATION:PT1H
X-Robots-Tag:noindex
X-PUBLISHED-TTL:PT1H
BEGIN:VTIMEZONE
TZID:America/New_York
BEGIN:DAYLIGHT
TZOFFSETFROM:-0500
TZOFFSETTO:-0400
TZNAME:EDT
DTSTART:20250309T070000
END:DAYLIGHT
BEGIN:STANDARD
TZOFFSETFROM:-0400
TZOFFSETTO:-0500
TZNAME:EST
DTSTART:20251102T060000
END:STANDARD
END:VTIMEZONE
BEGIN:VEVENT
DTSTART;TZID=America/New_York:20250531T080000
DTEND;TZID=America/New_York:20250531T170000
DTSTAMP:20260424T130448
CREATED:20250523T135929Z
LAST-MODIFIED:20250523T140153Z
UID:208378-1748678400-1748710800@www.baycircuit.org
SUMMARY:BCT Single-Day End to End Series
DESCRIPTION:Did you know that AMC’s Boston Chapter is turning 50 in 2025? As part of the year-long celebrations\, AMC Boston is planning a series of day of hikes along the Bay Circuit Trail on May 31st\, with the goal of attempting to hike nearly the whole trail in a single day.  The trips are open for registration and are listed by region. Click on the hike you would like to participate in for more details and registration.
URL:https://www.baycircuit.org/event/bct-single-day-end-to-end-series/
END:VEVENT
BEGIN:VEVENT
DTSTART;TZID=America/New_York:20250531T100000
DTEND;TZID=America/New_York:20250531T113000
DTSTAMP:20260424T130448
CREATED:20250523T140132Z
LAST-MODIFIED:20250523T140134Z
UID:208380-1748685600-1748691000@www.baycircuit.org
SUMMARY:Mystic Link Trail: Connect with Open Spaces
DESCRIPTION:Come and learn about the Mystic Link Trail\, an exciting new walking & biking trail connecting Andover to Boston \n\n\n\nLearn about a new recreational trail project called the Mystic Link Trail which originates in Andover and connects 10+ communities to Boston. This trail is a spur of the 230 mile Bay Circuit Trail that arcs around the city of Boston from Newburyport to Duxbury. \n\n\n\nAndover trail and conservation groups will also provide an overview of local trails and conservation efforts and help you get to the Mystic Link Trail!
URL:https://www.baycircuit.org/event/mystic-link-trail-connect-with-open-spaces/
END:VEVENT
BEGIN:VEVENT
DTSTART;TZID=America/New_York:20250531T160000
DTEND;TZID=America/New_York:20250531T220000
DTSTAMP:20260424T130448
CREATED:20250523T140520Z
LAST-MODIFIED:20250523T140521Z
UID:208383-1748707200-1748728800@www.baycircuit.org
SUMMARY:Hike for a Change Finish Line Party
DESCRIPTION:On May 31\, Dirty Hands Project will be completing the 200-mile hike of the Bay Circuit Trail. Please join us on this special day to celebrate everyone that participated in the Hike for a Change and thank them for raising awareness for mental health. \n\n\n\nTickets are $50 per person. Light fare will be served. Cash bar. All proceeds go to Dirty Hands Project. Sunset Club\, 4 Old Point Rd\, Newbury\, MA 01951\, USA \n\n\n\nSpace is limited so get your tickets now!
URL:https://www.baycircuit.org/event/hike-for-a-change-finish-line-party/
END:VEVENT
END:VCALENDAR