BEGIN:VCALENDAR
VERSION:2.0
PRODID:-//Bay Circuit Trail &amp; Greenway - ECPv6.9.0//NONSGML v1.0//EN
CALSCALE:GREGORIAN
METHOD:PUBLISH
X-WR-CALNAME:Bay Circuit Trail &amp; Greenway
X-ORIGINAL-URL:https://www.baycircuit.org
X-WR-CALDESC:Events for Bay Circuit Trail &amp; Greenway
REFRESH-INTERVAL;VALUE=DURATION:PT1H
X-Robots-Tag:noindex
X-PUBLISHED-TTL:PT1H
BEGIN:VTIMEZONE
TZID:America/New_York
BEGIN:DAYLIGHT
TZOFFSETFROM:-0500
TZOFFSETTO:-0400
TZNAME:EDT
DTSTART:20250309T070000
END:DAYLIGHT
BEGIN:STANDARD
TZOFFSETFROM:-0400
TZOFFSETTO:-0500
TZNAME:EST
DTSTART:20251102T060000
END:STANDARD
END:VTIMEZONE
BEGIN:VEVENT
DTSTART;TZID=America/New_York:20250620T051500
DTEND;TZID=America/New_York:20250620T070000
DTSTAMP:20260424T130401
CREATED:20250616T173747Z
LAST-MODIFIED:20250616T185516Z
UID:208427-1750396500-1750402800@www.baycircuit.org
SUMMARY:Early Morning BCT Stroll at Old Town Hill
DESCRIPTION:Staff Led Event | Free | Registration Required | Newbury\, MA
URL:https://www.baycircuit.org/event/sunrise-hike-at-old-town-hill/
END:VEVENT
BEGIN:VEVENT
DTSTART;TZID=America/New_York:20250620T100000
DTEND;TZID=America/New_York:20250620T140000
DTSTAMP:20260424T130401
CREATED:20250616T173219Z
LAST-MODIFIED:20250616T173220Z
UID:208419-1750413600-1750428000@www.baycircuit.org
SUMMARY:LET'S HIKE THE FIELDS OF WARD RESERVATION AND CELEBRATE THE SOLSTICE / ANDOVER MA
DESCRIPTION:Volunteer Led Hike | Free | Registration Required \n\n\n\nAMC Hiking\, Local Walks\, & Trail Running | Andover\, MA
URL:https://www.baycircuit.org/event/lets-hike-the-fields-of-ward-reservation-and-celebrate-the-solstice-andover-ma/
END:VEVENT
END:VCALENDAR