BEGIN:VCALENDAR
VERSION:2.0
PRODID:-//Bay Circuit Trail &amp; Greenway - ECPv6.9.0//NONSGML v1.0//EN
CALSCALE:GREGORIAN
METHOD:PUBLISH
X-WR-CALNAME:Bay Circuit Trail &amp; Greenway
X-ORIGINAL-URL:https://www.baycircuit.org
X-WR-CALDESC:Events for Bay Circuit Trail &amp; Greenway
REFRESH-INTERVAL;VALUE=DURATION:PT1H
X-Robots-Tag:noindex
X-PUBLISHED-TTL:PT1H
BEGIN:VTIMEZONE
TZID:America/New_York
BEGIN:DAYLIGHT
TZOFFSETFROM:-0500
TZOFFSETTO:-0400
TZNAME:EDT
DTSTART:20250309T070000
END:DAYLIGHT
BEGIN:STANDARD
TZOFFSETFROM:-0400
TZOFFSETTO:-0500
TZNAME:EST
DTSTART:20251102T060000
END:STANDARD
END:VTIMEZONE
BEGIN:VEVENT
DTSTART;TZID=America/New_York:20250708T180000
DTEND;TZID=America/New_York:20250708T193000
DTSTAMP:20260424T110728
CREATED:20250617T132609Z
LAST-MODIFIED:20250617T132610Z
UID:208436-1751997600-1752003000@www.baycircuit.org
SUMMARY:Greater Lowell Bike Pedestrian Plan Public Workshop
DESCRIPTION:Drop in to the Lowell Senior Center to contribute your expertise on the bike and pedestrian routes in the Greater Lowell area. Mark up maps with problem areas and dangerous roadways that need fixing up! Your input is essential to help create an interconnected network of sidewalks\, bike lanes\, crossing signals\, and rail trails.
URL:https://www.baycircuit.org/event/greater-lowell-bike-pedestrian-plan-public-workshop/
LOCATION:Lowell Senior Center\, 276 Broadway Street\, Lowell\, Massachusetts\, United States
END:VEVENT
END:VCALENDAR