BEGIN:VCALENDAR
VERSION:2.0
PRODID:-//Bay Circuit Trail &amp; Greenway - ECPv6.9.0//NONSGML v1.0//EN
CALSCALE:GREGORIAN
METHOD:PUBLISH
X-ORIGINAL-URL:https://www.baycircuit.org
X-WR-CALDESC:Events for Bay Circuit Trail &amp; Greenway
REFRESH-INTERVAL;VALUE=DURATION:PT1H
X-Robots-Tag:noindex
X-PUBLISHED-TTL:PT1H
BEGIN:VTIMEZONE
TZID:America/New_York
BEGIN:DAYLIGHT
TZOFFSETFROM:-0500
TZOFFSETTO:-0400
TZNAME:EDT
DTSTART:20250309T070000
END:DAYLIGHT
BEGIN:STANDARD
TZOFFSETFROM:-0400
TZOFFSETTO:-0500
TZNAME:EST
DTSTART:20251102T060000
END:STANDARD
END:VTIMEZONE
BEGIN:VEVENT
DTSTART;TZID=America/New_York:20250823T110000
DTEND;TZID=America/New_York:20250823T150000
DTSTAMP:20260424T092227
CREATED:20250812T181710Z
LAST-MODIFIED:20250812T181711Z
UID:208461-1755946800-1755961200@www.baycircuit.org
SUMMARY:Pedal Power @ the Museum of Science
DESCRIPTION:To join us with free admission\, go to mos.org and add exhibit hall tickets to your cart. Make sure to select the date of August 23.  Once you get to checkout\, apply the Promo Code: HUBLUV25
URL:https://www.baycircuit.org/event/pedal-power-the-museum-of-science/
LOCATION:Museum of Science
END:VEVENT
END:VCALENDAR