BEGIN:VCALENDAR
VERSION:2.0
PRODID:-//Bay Circuit Trail &amp; Greenway - ECPv6.9.0//NONSGML v1.0//EN
CALSCALE:GREGORIAN
METHOD:PUBLISH
X-WR-CALNAME:Bay Circuit Trail &amp; Greenway
X-ORIGINAL-URL:https://www.baycircuit.org
X-WR-CALDESC:Events for Bay Circuit Trail &amp; Greenway
REFRESH-INTERVAL;VALUE=DURATION:PT1H
X-Robots-Tag:noindex
X-PUBLISHED-TTL:PT1H
BEGIN:VTIMEZONE
TZID:America/New_York
BEGIN:DAYLIGHT
TZOFFSETFROM:-0500
TZOFFSETTO:-0400
TZNAME:EDT
DTSTART:20250309T070000
END:DAYLIGHT
BEGIN:STANDARD
TZOFFSETFROM:-0400
TZOFFSETTO:-0500
TZNAME:EST
DTSTART:20251102T060000
END:STANDARD
END:VTIMEZONE
BEGIN:VEVENT
DTSTART;TZID=America/New_York:20251015T171500
DTEND;TZID=America/New_York:20251015T190000
DTSTAMP:20260424T064555
CREATED:20250922T195003Z
LAST-MODIFIED:20250922T195005Z
UID:208529-1760548500-1760554800@www.baycircuit.org
SUMMARY:Wednesday Night Rides: Bruce Freeman Rail Trail
DESCRIPTION:A night ride on the Bruce Freeman Rail Trail in Acton
URL:https://www.baycircuit.org/event/wednesday-night-rides-bruce-freeman-rail-trail/
END:VEVENT
END:VCALENDAR