BEGIN:VCALENDAR
VERSION:2.0
PRODID:-//Bay Circuit Trail &amp; Greenway - ECPv6.9.0//NONSGML v1.0//EN
CALSCALE:GREGORIAN
METHOD:PUBLISH
X-WR-CALNAME:Bay Circuit Trail &amp; Greenway
X-ORIGINAL-URL:https://www.baycircuit.org
X-WR-CALDESC:Events for Bay Circuit Trail &amp; Greenway
REFRESH-INTERVAL;VALUE=DURATION:PT1H
X-Robots-Tag:noindex
X-PUBLISHED-TTL:PT1H
BEGIN:VTIMEZONE
TZID:America/New_York
BEGIN:DAYLIGHT
TZOFFSETFROM:-0500
TZOFFSETTO:-0400
TZNAME:EDT
DTSTART:20250309T070000
END:DAYLIGHT
BEGIN:STANDARD
TZOFFSETFROM:-0400
TZOFFSETTO:-0500
TZNAME:EST
DTSTART:20251102T060000
END:STANDARD
END:VTIMEZONE
BEGIN:VEVENT
DTSTART;TZID=America/New_York:20250907T110000
DTEND;TZID=America/New_York:20250907T160000
DTSTAMP:20260424T094150
CREATED:20250813T185904Z
LAST-MODIFIED:20250813T185905Z
UID:208481-1757242800-1757260800@www.baycircuit.org
SUMMARY:Transit to Trails Hike: Walpole MBTA Station to Sharon MBTA Station via BCT
DESCRIPTION:
URL:https://www.baycircuit.org/event/transit-to-trails-hike-walpole-mbta-station-to-sharon-mbta-station-via-bct/
END:VEVENT
BEGIN:VEVENT
DTSTART;TZID=America/New_York:20250913T100000
DTEND;TZID=America/New_York:20250913T120000
DTSTAMP:20260424T094150
CREATED:20250902T135849Z
LAST-MODIFIED:20250902T135850Z
UID:208508-1757757600-1757764800@www.baycircuit.org
SUMMARY:Behind the Scenes on the Bay Circuit Trail
DESCRIPTION:
URL:https://www.baycircuit.org/event/behind-the-scenes-on-the-bay-circuit-trail/
END:VEVENT
BEGIN:VEVENT
DTSTART;TZID=America/New_York:20250913T110000
DTEND;TZID=America/New_York:20250913T141500
DTSTAMP:20260424T094150
CREATED:20250825T203036Z
LAST-MODIFIED:20250825T203037Z
UID:208503-1757761200-1757772900@www.baycircuit.org
SUMMARY:Farm to Forest Ice Cream Hike (Ipswich\, MA)
DESCRIPTION:“A group hike from Marini Farm through the forest to White Farms for an optional ice cream. Don’t miss this great opportunity to explore the farm\, forest\, and nature of Ipswich. The group will meet on Linebrook Road in Ipswich. Bike entrance to Willowdale State Forest just west of Marini Farm. Look for the Event sign.”
URL:https://www.baycircuit.org/event/farm-to-forest-ice-cream-hike-ipswich-ma/
END:VEVENT
BEGIN:VEVENT
DTSTART;TZID=America/New_York:20250917T180000
DTEND;TZID=America/New_York:20250917T203000
DTSTAMP:20260424T094150
CREATED:20250821T150038Z
LAST-MODIFIED:20250821T150040Z
UID:208491-1758132000-1758141000@www.baycircuit.org
SUMMARY:Transit to Trails: Boston to Lincoln on the BCT
DESCRIPTION:
URL:https://www.baycircuit.org/event/transit-to-trails-boston-to-lincoln-on-the-bct-2/
END:VEVENT
BEGIN:VEVENT
DTSTART;TZID=America/New_York:20250919T080000
DTEND;TZID=America/New_York:20250921T170000
DTSTAMP:20260424T094150
CREATED:20250812T184757Z
LAST-MODIFIED:20250812T184759Z
UID:208475-1758268800-1758474000@www.baycircuit.org
SUMMARY:AMC Trail Skills College (Fall Semester)
DESCRIPTION:Thank you all for your interest in the upcoming Trail Skills College at the Noble View Outdoor Center from September. 19-21\, 2025. This 3-day event is filled with a variety of trainings and workshops that any trail or outdoor enthusiast would love. \n\n\n\nThis collaborative event is for the entire trails community-volunteer and professional trail stewards with all levels of experience. Whether you are just starting out and looking for ways to get involved\, or a professional looking to further your skills and build your network\, this event offers opportunities for everyone\, and all are welcome!  \n\n\n\nWe are lucky to have such a robust selection of courses and grateful to have so many of the industry’s best providing instruction. For safety and best teaching practices\, there will be set capacities for day programs and will be able to open up our evening programs to all who would like to participate. \n\n\n\n*Note: Multi-Day Certification Trainings\, Participants must go through entire course \n\n\n\nThanks to all the instructors and event planning team for putting this all together!  \n\n\n\nIf you have any questions or need any email confirmations\, please feel free to reach out to our Trails Training Programs Supervisor\, Erik Samia at esamia@outdoors.org. \n\n\n\nWe hope to see you at this year’s “Fall Semester”! \n\n\n\nHappy Trails!
URL:https://www.baycircuit.org/event/amc-trail-skills-college-fall-semester/
LOCATION:AMC Noble View Outdoor Center\, 635 S Quarter Rd\, Russel\, Massachusetts\, 01071\, United States
END:VEVENT
BEGIN:VEVENT
DTSTART;TZID=America/New_York:20250922T080000
DTEND;TZID=America/New_York:20250922T170000
DTSTAMP:20260424T094150
CREATED:20251022T195338Z
LAST-MODIFIED:20250922T195519Z
UID:208533-1758528000-1758560400@www.baycircuit.org
SUMMARY:SPOOKY FAMILY FRIENDLY Wednesday Night Rides: Mass Central Rail Trail
DESCRIPTION:A family-friendly evening ride on the MCRT in Wayland and Weston
URL:https://www.baycircuit.org/event/spooky-family-friendly-wednesday-night-rides-mass-central-rail-trail/
END:VEVENT
BEGIN:VEVENT
DTSTART;TZID=America/New_York:20250924T180000
DTEND;TZID=America/New_York:20250924T200000
DTSTAMP:20260424T094150
CREATED:20250922T194142Z
LAST-MODIFIED:20250922T194144Z
UID:208519-1758736800-1758744000@www.baycircuit.org
SUMMARY:Transit to Trails: Boston to Lincoln on the BCT
DESCRIPTION:Evening hike of Drumlin Farm and Weston Conservation land in Lincoln and Weston
URL:https://www.baycircuit.org/event/transit-to-trails-boston-to-lincoln-on-the-bct-3/
END:VEVENT
BEGIN:VEVENT
DTSTART;TZID=America/New_York:20250927T150000
DTEND;TZID=America/New_York:20250927T180000
DTSTAMP:20260424T094150
CREATED:20250825T202641Z
LAST-MODIFIED:20250825T202643Z
UID:208499-1758985200-1758996000@www.baycircuit.org
SUMMARY:Ipswich Open Space Festival
DESCRIPTION:
URL:https://www.baycircuit.org/event/ipswich-open-space-festival/
END:VEVENT
BEGIN:VEVENT
DTSTART;TZID=America/New_York:20251002T171500
DTEND;TZID=America/New_York:20251002T183000
DTSTAMP:20260424T094150
CREATED:20250922T194354Z
LAST-MODIFIED:20250922T194355Z
UID:208521-1759425300-1759429800@www.baycircuit.org
SUMMARY:Evening Ride on the Mass Central Rail Trail: Beginner Friendly
DESCRIPTION:An evening bike ride on the Mass Central Rail Trail in Wayland and Weston
URL:https://www.baycircuit.org/event/evening-ride-on-the-mass-central-rail-trail-beginner-friendly/
END:VEVENT
BEGIN:VEVENT
DTSTART;TZID=America/New_York:20251003T100000
DTEND;TZID=America/New_York:20251003T130000
DTSTAMP:20260424T094150
CREATED:20250922T194528Z
LAST-MODIFIED:20250922T194530Z
UID:208523-1759485600-1759496400@www.baycircuit.org
SUMMARY:Medfield BCT Trail Maintenance
DESCRIPTION:Standard maintenance of the BCT in Medfield
URL:https://www.baycircuit.org/event/medfield-bct-trail-maintenance/
END:VEVENT
BEGIN:VEVENT
DTSTART;TZID=America/New_York:20251009T170000
DTEND;TZID=America/New_York:20251009T190000
DTSTAMP:20260424T094150
CREATED:20250922T194705Z
LAST-MODIFIED:20250922T194706Z
UID:208525-1760029200-1760036400@www.baycircuit.org
SUMMARY:Medfield BCT Women's Night Hike
DESCRIPTION:An evening 4-mile hike of the BCT in Medfield – for women only!
URL:https://www.baycircuit.org/event/medfield-bct-womens-night-hike/
END:VEVENT
BEGIN:VEVENT
DTSTART;TZID=America/New_York:20251011T100000
DTEND;TZID=America/New_York:20251011T120000
DTSTAMP:20260424T094150
CREATED:20250922T194822Z
LAST-MODIFIED:20250922T195421Z
UID:208527-1760176800-1760184000@www.baycircuit.org
SUMMARY:Medfield BCT Hike
DESCRIPTION:A 4-mile hike of the BCT in Medfield
URL:https://www.baycircuit.org/event/medfield-bct-hike/
END:VEVENT
BEGIN:VEVENT
DTSTART;TZID=America/New_York:20251015T171500
DTEND;TZID=America/New_York:20251015T190000
DTSTAMP:20260424T094150
CREATED:20250922T195003Z
LAST-MODIFIED:20250922T195005Z
UID:208529-1760548500-1760554800@www.baycircuit.org
SUMMARY:Wednesday Night Rides: Bruce Freeman Rail Trail
DESCRIPTION:A night ride on the Bruce Freeman Rail Trail in Acton
URL:https://www.baycircuit.org/event/wednesday-night-rides-bruce-freeman-rail-trail/
END:VEVENT
BEGIN:VEVENT
DTSTART;TZID=America/New_York:20251019T100000
DTEND;TZID=America/New_York:20251019T170000
DTSTAMP:20260424T094150
CREATED:20250922T195202Z
LAST-MODIFIED:20250922T195203Z
UID:208531-1760868000-1760893200@www.baycircuit.org
SUMMARY:An Epic Traverse of the Appleton Branch of the BCT
DESCRIPTION:A 10-mile hike of the Appleton Branch of the BCT
URL:https://www.baycircuit.org/event/an-epic-traverse-of-the-appleton-branch-of-the-bct/
END:VEVENT
END:VCALENDAR