BEGIN:VCALENDAR
VERSION:2.0
PRODID:-//Bay Circuit Trail &amp; Greenway - ECPv6.9.0//NONSGML v1.0//EN
CALSCALE:GREGORIAN
METHOD:PUBLISH
X-WR-CALNAME:Bay Circuit Trail &amp; Greenway
X-ORIGINAL-URL:https://www.baycircuit.org
X-WR-CALDESC:Events for Bay Circuit Trail &amp; Greenway
REFRESH-INTERVAL;VALUE=DURATION:PT1H
X-Robots-Tag:noindex
X-PUBLISHED-TTL:PT1H
BEGIN:VTIMEZONE
TZID:America/New_York
BEGIN:DAYLIGHT
TZOFFSETFROM:-0500
TZOFFSETTO:-0400
TZNAME:EDT
DTSTART:20250309T070000
END:DAYLIGHT
BEGIN:STANDARD
TZOFFSETFROM:-0400
TZOFFSETTO:-0500
TZNAME:EST
DTSTART:20251102T060000
END:STANDARD
END:VTIMEZONE
BEGIN:VEVENT
DTSTART;TZID=America/New_York:20251019T100000
DTEND;TZID=America/New_York:20251019T170000
DTSTAMP:20260424T110303
CREATED:20250922T195202Z
LAST-MODIFIED:20250922T195203Z
UID:208531-1760868000-1760893200@www.baycircuit.org
SUMMARY:An Epic Traverse of the Appleton Branch of the BCT
DESCRIPTION:A 10-mile hike of the Appleton Branch of the BCT
URL:https://www.baycircuit.org/event/an-epic-traverse-of-the-appleton-branch-of-the-bct/
END:VEVENT
END:VCALENDAR