BEGIN:VCALENDAR
VERSION:2.0
PRODID:-//Bay Circuit Trail &amp; Greenway - ECPv6.9.0//NONSGML v1.0//EN
CALSCALE:GREGORIAN
METHOD:PUBLISH
X-WR-CALNAME:Bay Circuit Trail &amp; Greenway
X-ORIGINAL-URL:https://www.baycircuit.org
X-WR-CALDESC:Events for Bay Circuit Trail &amp; Greenway
REFRESH-INTERVAL;VALUE=DURATION:PT1H
X-Robots-Tag:noindex
X-PUBLISHED-TTL:PT1H
BEGIN:VTIMEZONE
TZID:America/New_York
BEGIN:DAYLIGHT
TZOFFSETFROM:-0500
TZOFFSETTO:-0400
TZNAME:EDT
DTSTART:20250309T070000
END:DAYLIGHT
BEGIN:STANDARD
TZOFFSETFROM:-0400
TZOFFSETTO:-0500
TZNAME:EST
DTSTART:20251102T060000
END:STANDARD
END:VTIMEZONE
BEGIN:VEVENT
DTSTART;TZID=America/New_York:20250517T100000
DTEND;TZID=America/New_York:20250517T160000
DTSTAMP:20260424T123731
CREATED:20250325T174513Z
LAST-MODIFIED:20250325T174515Z
UID:208290-1747476000-1747497600@www.baycircuit.org
SUMMARY:Ogilvie Town Forest and Hathaway Hill (BCT)
DESCRIPTION:Volunteer Led Hike | Free | Vigorous Hike \n\n\n\nAMC Hiking\, Local Walks\, & Trail Running | Weston\, MA
URL:https://www.baycircuit.org/event/ogilvie-town-forest-and-hathaway-hill-bct/
END:VEVENT
BEGIN:VEVENT
DTSTART;TZID=America/New_York:20250515T070000
DTEND;TZID=America/New_York:20250518T170000
DTSTAMP:20260424T123731
CREATED:20250127T194207Z
LAST-MODIFIED:20250423T153751Z
UID:208242-1747292400-1747587600@www.baycircuit.org
SUMMARY:APPALACHIAN MOUNTAIN CLUB'S ANNUAL TRAILS SKILLS COLLEGE
DESCRIPTION:AMC will be hosting it’s annual Trail Skills College from May 15th – 19th\, 2025. This event will offer five days worth of trails skills training workshops and courses to choose from. The event is hosted at Camp Dodge Trails Center in Gorham NH. Registration for this event is first come\, first serve and has associated fees for trainings\, lodging\, and dining.
URL:https://www.baycircuit.org/event/appalachian-mountain-clubs-annual-trails-skills-college/
LOCATION:AMC Camp Dodge Trails Center\, 1 Camp Dodge Rd\, Gorham\, NH 03581\, Gorham\, New Hampshire\, United States
END:VEVENT
BEGIN:VEVENT
DTSTART;TZID=America/New_York:20250511T093000
DTEND;TZID=America/New_York:20250511T113000
DTSTAMP:20260424T123731
CREATED:20250429T183156Z
LAST-MODIFIED:20250429T183157Z
UID:208361-1746955800-1746963000@www.baycircuit.org
SUMMARY:Mothers Day Bike Ride on the Bruce Freeman (BCT)
DESCRIPTION:Staff Led Events | Group Bike Ride | \n\n\n\nFamily Oriented | Acton\, MA
URL:https://www.baycircuit.org/event/mothers-day-bike-ride-on-the-bruce-freeman-bct/
END:VEVENT
BEGIN:VEVENT
DTSTART;TZID=America/New_York:20250510T093000
DTEND;TZID=America/New_York:20250510T123000
DTSTAMP:20260424T123731
CREATED:20250127T193422Z
LAST-MODIFIED:20250429T183332Z
UID:208240-1746869400-1746880200@www.baycircuit.org
SUMMARY:SATURDAY MORNING TRAIL MAINTENANCE SERIES #3 - PEMBROKE
DESCRIPTION:Staff Led Event Series | Volunteering | Saturdays \n\n\n\nPembroke\, MA
URL:https://www.baycircuit.org/event/bct-trail-maintenance-5/
END:VEVENT
BEGIN:VEVENT
DTSTART;TZID=America/New_York:20250508T100000
DTEND;TZID=America/New_York:20250508T130000
DTSTAMP:20260424T123731
CREATED:20250127T161930Z
LAST-MODIFIED:20250227T152425Z
UID:208214-1746698400-1746709200@www.baycircuit.org
SUMMARY:TRY EXPLORING ANDOVER (TEA) TIME HIKE – BAY CIRCUIT TRAIL – HAROLD PARKER STATE FOREST TO SKUG RIVER RESERVATION
DESCRIPTION:Volunteer Led Hike Series | Free | Thursdays | Registration Required \n\n\n\nAMC Hiking\, Local Walks\, & Trail Running | North Andover\, MA
URL:https://www.baycircuit.org/event/try-exploring-andover-tea-time-hike-bay-circuit-trail-harold-parker-state-forest-to-skug-river-reservation/
END:VEVENT
BEGIN:VEVENT
DTSTART;TZID=America/New_York:20250504T093000
DTEND;TZID=America/New_York:20250504T160000
DTSTAMP:20260424T123731
CREATED:20250418T185027Z
LAST-MODIFIED:20250418T185028Z
UID:208353-1746351000-1746374400@www.baycircuit.org
SUMMARY:BCT Northern Terminus Work Party (Day 2) - 20s & 30s Event
DESCRIPTION:BCT Coordinator | Volunteer Event | Newburyport\, MA \n\n\n\nBoardwalk & bog bridge work at the Northern Terminus of the BCT. This event is geared towards volunteers in their 20s & 30s but is still open to anyone.
URL:https://www.baycircuit.org/event/bct-northern-terminus-work-party-day-2-20s-30s-event/
END:VEVENT
BEGIN:VEVENT
DTSTART;TZID=America/New_York:20250503T093000
DTEND;TZID=America/New_York:20250503T173000
DTSTAMP:20260424T123731
CREATED:20250418T184357Z
LAST-MODIFIED:20250418T184658Z
UID:208349-1746264600-1746293400@www.baycircuit.org
SUMMARY:BCT Northern Terminus Work Party (Day 1) - 20s & 30s Event
DESCRIPTION:BCT Coordinator | Volunteer Event | Newburyport\, MA \n\n\n\nBoardwalk & Bog Bridge work at the Northern Terminus of the BCT. This is event is geared towards volunteers in their 20s & 30s but is still open to anyone.
URL:https://www.baycircuit.org/event/bct-northern-terminus-work-party-day-1-20s-30s-event/
END:VEVENT
BEGIN:VEVENT
DTSTART;TZID=America/New_York:20250427T100000
DTEND;TZID=America/New_York:20250427T160000
DTSTAMP:20260424T123731
CREATED:20250304T164712Z
LAST-MODIFIED:20250304T164713Z
UID:208276-1745748000-1745769600@www.baycircuit.org
SUMMARY:Scenic Hike in Sherborn\, Dover\, and Medfield
DESCRIPTION:Volunteer Led Hike | Free | Registration Required \n\n\n\nAMC Hiking\, Local Walks & Trail Running | Sherborn\, Dover & Medfield\, MA
URL:https://www.baycircuit.org/event/scenic-hike-in-sherborn-dover-and-medfield/
END:VEVENT
BEGIN:VEVENT
DTSTART;TZID=America/New_York:20250426T083000
DTEND;TZID=America/New_York:20250426T120000
DTSTAMP:20260424T123731
CREATED:20250127T193211Z
LAST-MODIFIED:20250325T173639Z
UID:208238-1745656200-1745668800@www.baycircuit.org
SUMMARY:Springtime Saturday Maintenance Series - Pembroke\, MA
DESCRIPTION:Staff Led Event Series | Volunteering | Saturdays \n\n\n\nBeginner friendly
URL:https://www.baycircuit.org/event/bct-trail-maintenance-4/
END:VEVENT
BEGIN:VEVENT
DTSTART;TZID=America/New_York:20250415T180000
DTEND;TZID=America/New_York:20250415T200000
DTSTAMP:20260424T123731
CREATED:20250326T191934Z
LAST-MODIFIED:20250326T191935Z
UID:208304-1744740000-1744747200@www.baycircuit.org
SUMMARY:20s&30s Weeknight Wander at Callahan State Park on the BCT
DESCRIPTION:Volunteer Led Event | Registration Required | Free  \n\n\n\nAMC Hiking\, Local Walks\, and Trail Running | Framingham\, MA
URL:https://www.baycircuit.org/event/20s30s-weeknight-wander-at-callahan-state-park-on-the-bct/
END:VEVENT
BEGIN:VEVENT
DTSTART;TZID=America/New_York:20250413T100000
DTEND;TZID=America/New_York:20250413T140000
DTSTAMP:20260424T123731
CREATED:20250325T174147Z
LAST-MODIFIED:20250325T174148Z
UID:208282-1744538400-1744552800@www.baycircuit.org
SUMMARY:Willowdale Walk and Dance with the BCT
DESCRIPTION:Volunteer led hike | Free | Registration Required | \n\n\n\nAMC Hiking\, Local Walks\, & Trail Running | Ipswich\, MA
URL:https://www.baycircuit.org/event/willowdale-walk-and-dance-with-the-bct/
END:VEVENT
BEGIN:VEVENT
DTSTART;TZID=America/New_York:20250412T083000
DTEND;TZID=America/New_York:20250412T123000
DTSTAMP:20260424T123731
CREATED:20250127T193006Z
LAST-MODIFIED:20250325T173526Z
UID:208236-1744446600-1744461000@www.baycircuit.org
SUMMARY:Springtime Saturday Maintenance Series - Pembroke\, MA
DESCRIPTION:Staff Led Event Series | Volunteering | Saturdays \n\n\n\nBeginner friendly!
URL:https://www.baycircuit.org/event/bct-trail-maintenance-3/
END:VEVENT
BEGIN:VEVENT
DTSTART;TZID=America/New_York:20250410T100000
DTEND;TZID=America/New_York:20250410T130000
DTSTAMP:20260424T123731
CREATED:20250127T191842Z
LAST-MODIFIED:20250227T152503Z
UID:208224-1744279200-1744290000@www.baycircuit.org
SUMMARY:TRY EXPLORING ANDOVER (TEA) TIME HIKE – BAY CIRCUIT TRAIL ANDOVER TO TEWKSBURY SPUR
DESCRIPTION:Volunteer Led Hike Series | Free | Thursdays | Registration Required \n\n\n\nAMC Hiking\, Local Walks\, & Trail Running | Tewksbury\, MA
URL:https://www.baycircuit.org/event/try-exploring-andover-tea-time-hike-bay-circuit-trail-andover-to-tewksbury-spur/
END:VEVENT
BEGIN:VEVENT
DTSTART;TZID=America/New_York:20250329T100000
DTEND;TZID=America/New_York:20250329T150000
DTSTAMP:20260424T123731
CREATED:20250304T164420Z
LAST-MODIFIED:20250304T164421Z
UID:208274-1743242400-1743260400@www.baycircuit.org
SUMMARY:Scenic Hike to Walden Pond and Emerson's Cliff
DESCRIPTION:Volunteer Led Hike | Free | Registration Required \n\n\n\nAMC Hiking\, Local Walks & Trail Running | Lincoln\, MA
URL:https://www.baycircuit.org/event/scenic-hike-to-walden-pond-and-emersons-cliff/
END:VEVENT
BEGIN:VEVENT
DTSTART;TZID=America/New_York:20250327T100000
DTEND;TZID=America/New_York:20250327T123000
DTSTAMP:20260424T123731
CREATED:20250127T161555Z
LAST-MODIFIED:20250227T152524Z
UID:208209-1743069600-1743078600@www.baycircuit.org
SUMMARY:TRY REXPLORING ANDOVER (TEA) TIME HIKE – BAY CIRCUIT TRAIL THROUGH THE CHARLES WARD RESERVATION
DESCRIPTION:Volunteer Led Hike Series | Free | Thursdays | Registration Required \n\n\n\nAMC Hiking\, Local Walks\, & Trail Running | Andover\, MA
URL:https://www.baycircuit.org/event/try-rexploring-andover-tea-time-hike-bay-circuit-trail-through-the-charles-ward-reservation/
END:VEVENT
BEGIN:VEVENT
DTSTART;TZID=America/New_York:20250322T100000
DTEND;TZID=America/New_York:20250322T150000
DTSTAMP:20260424T123731
CREATED:20250227T152328Z
LAST-MODIFIED:20250227T152600Z
UID:208266-1742637600-1742655600@www.baycircuit.org
SUMMARY:ASHLAND TOWN FOREST AND COWASSOCK WOODS
DESCRIPTION:Volunteer Led Hike Series | Free | Registration Required \n\n\n\nAMC Hiking\, Local Walks & Trail Running | Ashland\, MA
URL:https://www.baycircuit.org/event/ashland-town-forest-and-cowassock-woods/
END:VEVENT
BEGIN:VEVENT
DTSTART;TZID=America/New_York:20250313T100000
DTEND;TZID=America/New_York:20250313T123000
DTSTAMP:20260424T123731
CREATED:20250127T161108Z
LAST-MODIFIED:20250127T161749Z
UID:208205-1741860000-1741869000@www.baycircuit.org
SUMMARY:TRY EXPLORING ANDOVER (TEA) TIME HIKE – BAY CIRCUIT TRAIL – DEER JUMP AND HAROLD RAFTON RESERVATIONS
DESCRIPTION:Volunteer Led Hike Series | Free | Thursdays \n\n\n\nAMC Hiking\, Local Walks\, & Trail Running | Tewksbury\, MA
URL:https://www.baycircuit.org/event/try-exploring-andover-tea-time-hike-bay-circuit-trail-deer-jump-and-harold-rafton-reservations/
END:VEVENT
BEGIN:VEVENT
DTSTART;TZID=America/New_York:20250227T100000
DTEND;TZID=America/New_York:20250227T130000
DTSTAMP:20260424T123731
CREATED:20250127T191419Z
LAST-MODIFIED:20250127T191420Z
UID:208222-1740650400-1740661200@www.baycircuit.org
SUMMARY:TRY EXPLORING ANDOVER (TEA) TIME HIKE – WEST PARISH MEADOW/ INDIAN RIDGE AND BAKER’S MEADOW RESERVATIONS
DESCRIPTION:Volunteer Led Hike Series | Free | Thursdays \n\n\n\nAMC Hiking\, Local Walks\, & Trail Running | Andover\, MA
URL:https://www.baycircuit.org/event/try-exploring-andover-tea-time-hike-west-parish-meadow-indian-ridge-and-bakers-meadow-reservations/
END:VEVENT
BEGIN:VEVENT
DTSTART;TZID=America/New_York:20250223T100000
DTEND;TZID=America/New_York:20250223T163000
DTSTAMP:20260424T123731
CREATED:20250210T192604Z
LAST-MODIFIED:20250210T192606Z
UID:208262-1740304800-1740328200@www.baycircuit.org
SUMMARY:Tippling Rock\, Nobscot Hill to Henry's Hill (8 miles on the BCT)
DESCRIPTION:Volunteer Led Hike | Free | Good Fitness Required  \n\n\n\nAMC Hiking\, Local Walks & Trail Running | Sudbury\, MA
URL:https://www.baycircuit.org/event/tippling-rock-nobscot-hill-to-henrys-hill-8-miles-on-the-bct/
END:VEVENT
BEGIN:VEVENT
DTSTART;TZID=America/New_York:20250214T181500
DTEND;TZID=America/New_York:20250214T203000
DTSTAMP:20260424T123731
CREATED:20250205T183811Z
LAST-MODIFIED:20250205T183812Z
UID:208256-1739556900-1739565000@www.baycircuit.org
SUMMARY:Hike Beautiful Billerica - Valentines Day Snow Moon Walk
DESCRIPTION:Volunteer Led Hike | Family Friendly \n\n\n\nHike Beautiful Billerica
URL:https://www.baycircuit.org/event/hike-beautiful-billerica-valentines-day-snow-moon-walk/
END:VEVENT
END:VCALENDAR