BEGIN:VCALENDAR
VERSION:2.0
PRODID:-//Bay Circuit Trail &amp; Greenway - ECPv6.9.0//NONSGML v1.0//EN
CALSCALE:GREGORIAN
METHOD:PUBLISH
X-WR-CALNAME:Bay Circuit Trail &amp; Greenway
X-ORIGINAL-URL:https://www.baycircuit.org
X-WR-CALDESC:Events for Bay Circuit Trail &amp; Greenway
REFRESH-INTERVAL;VALUE=DURATION:PT1H
X-Robots-Tag:noindex
X-PUBLISHED-TTL:PT1H
BEGIN:VTIMEZONE
TZID:America/New_York
BEGIN:DAYLIGHT
TZOFFSETFROM:-0500
TZOFFSETTO:-0400
TZNAME:EDT
DTSTART:20250309T070000
END:DAYLIGHT
BEGIN:STANDARD
TZOFFSETFROM:-0400
TZOFFSETTO:-0500
TZNAME:EST
DTSTART:20251102T060000
END:STANDARD
END:VTIMEZONE
BEGIN:VEVENT
DTSTART;TZID=America/New_York:20250410T100000
DTEND;TZID=America/New_York:20250410T130000
DTSTAMP:20260424T142107
CREATED:20250127T191842Z
LAST-MODIFIED:20250227T152503Z
UID:208224-1744279200-1744290000@www.baycircuit.org
SUMMARY:TRY EXPLORING ANDOVER (TEA) TIME HIKE – BAY CIRCUIT TRAIL ANDOVER TO TEWKSBURY SPUR
DESCRIPTION:Volunteer Led Hike Series | Free | Thursdays | Registration Required \n\n\n\nAMC Hiking\, Local Walks\, & Trail Running | Tewksbury\, MA
URL:https://www.baycircuit.org/event/try-exploring-andover-tea-time-hike-bay-circuit-trail-andover-to-tewksbury-spur/
END:VEVENT
BEGIN:VEVENT
DTSTART;TZID=America/New_York:20250412T083000
DTEND;TZID=America/New_York:20250412T123000
DTSTAMP:20260424T142107
CREATED:20250127T193006Z
LAST-MODIFIED:20250325T173526Z
UID:208236-1744446600-1744461000@www.baycircuit.org
SUMMARY:Springtime Saturday Maintenance Series - Pembroke\, MA
DESCRIPTION:Staff Led Event Series | Volunteering | Saturdays \n\n\n\nBeginner friendly!
URL:https://www.baycircuit.org/event/bct-trail-maintenance-3/
END:VEVENT
BEGIN:VEVENT
DTSTART;TZID=America/New_York:20250413T100000
DTEND;TZID=America/New_York:20250413T140000
DTSTAMP:20260424T142107
CREATED:20250325T174147Z
LAST-MODIFIED:20250325T174148Z
UID:208282-1744538400-1744552800@www.baycircuit.org
SUMMARY:Willowdale Walk and Dance with the BCT
DESCRIPTION:Volunteer led hike | Free | Registration Required | \n\n\n\nAMC Hiking\, Local Walks\, & Trail Running | Ipswich\, MA
URL:https://www.baycircuit.org/event/willowdale-walk-and-dance-with-the-bct/
END:VEVENT
BEGIN:VEVENT
DTSTART;TZID=America/New_York:20250415T180000
DTEND;TZID=America/New_York:20250415T200000
DTSTAMP:20260424T142107
CREATED:20250326T191934Z
LAST-MODIFIED:20250326T191935Z
UID:208304-1744740000-1744747200@www.baycircuit.org
SUMMARY:20s&30s Weeknight Wander at Callahan State Park on the BCT
DESCRIPTION:Volunteer Led Event | Registration Required | Free  \n\n\n\nAMC Hiking\, Local Walks\, and Trail Running | Framingham\, MA
URL:https://www.baycircuit.org/event/20s30s-weeknight-wander-at-callahan-state-park-on-the-bct/
END:VEVENT
BEGIN:VEVENT
DTSTART;TZID=America/New_York:20250426T083000
DTEND;TZID=America/New_York:20250426T120000
DTSTAMP:20260424T142107
CREATED:20250127T193211Z
LAST-MODIFIED:20250325T173639Z
UID:208238-1745656200-1745668800@www.baycircuit.org
SUMMARY:Springtime Saturday Maintenance Series - Pembroke\, MA
DESCRIPTION:Staff Led Event Series | Volunteering | Saturdays \n\n\n\nBeginner friendly
URL:https://www.baycircuit.org/event/bct-trail-maintenance-4/
END:VEVENT
BEGIN:VEVENT
DTSTART;TZID=America/New_York:20250427T100000
DTEND;TZID=America/New_York:20250427T160000
DTSTAMP:20260424T142107
CREATED:20250304T164712Z
LAST-MODIFIED:20250304T164713Z
UID:208276-1745748000-1745769600@www.baycircuit.org
SUMMARY:Scenic Hike in Sherborn\, Dover\, and Medfield
DESCRIPTION:Volunteer Led Hike | Free | Registration Required \n\n\n\nAMC Hiking\, Local Walks & Trail Running | Sherborn\, Dover & Medfield\, MA
URL:https://www.baycircuit.org/event/scenic-hike-in-sherborn-dover-and-medfield/
END:VEVENT
END:VCALENDAR